BEGIN:VCALENDAR
VERSION:2.0
PRODID:-//Tukios.com/
BEGIN:VEVENT
UID:bac79b80-b8c4-4c2f-aecc-80a2887f0fd1@www.funeralsatwilliams.com
DTSTAMP:20260420T202417Z
DTSTART:20260424T170000Z
DTEND:20260425T000000Z
SUMMARY:Visitation
DESCRIPTION:
URL:https://www.funeralsatwilliams.com/obituaries/ieisha-washington
LOCATION: 1517 Caddo St  Arkadelphia AR 71923
GEO:34.1210523;-93.0669024
END:VEVENT
END:VCALENDAR