BEGIN:VCALENDAR
VERSION:2.0
PRODID:-//Tukios.com/
BEGIN:VEVENT
UID:c5855417-8076-47a1-b049-2aa284135315@www.funeralsatwilliams.com
DTSTAMP:20260420T203039Z
DTSTART:20260425T170000Z
DTEND:20260425T180000Z
SUMMARY:Celebration of Life
DESCRIPTION:
URL:https://www.funeralsatwilliams.com/obituaries/ieisha-washington
LOCATION:    Gurdon AR 71743
GEO:33.9198846;-93.1527406
END:VEVENT
END:VCALENDAR