BEGIN:VCALENDAR
VERSION:2.0
PRODID:-//Tukios.com/
BEGIN:VEVENT
UID:8eaea29c-6340-4e4b-b1fa-050de63b3db9@www.funeralsatwilliams.com
DTSTAMP:20260420T203012Z
DTSTART:20260424T230000Z
DTEND:20260425T000000Z
SUMMARY:An Evening with Family and Friends
DESCRIPTION:The family will receive friends and share memories of Esha.
URL:https://www.funeralsatwilliams.com/obituaries/ieisha-washington
LOCATION: 1517 Caddo St  Arkadelphia AR 71923
GEO:34.1210523;-93.0669024
END:VEVENT
END:VCALENDAR