BEGIN:VCALENDAR
VERSION:2.0
PRODID:-//Tukios.com/
BEGIN:VEVENT
UID:e7791965-04dc-49cb-82ef-2e791885d8f8@www.funeralsatwilliams.com
DTSTAMP:20260420T203305Z
DTSTART:20260424T150000Z
DTEND:20260425T000000Z
SUMMARY:Resolutions and Condolences
DESCRIPTION:Please email resolutions via email to 
	williams.hm@sbcglobal.net or fax at 870-260-5929
URL:https://www.funeralsatwilliams.com/obituaries/ieisha-washington
LOCATION: 1517 Caddo St  Arkadelphia AR 71923
GEO:34.1210523;-93.0669024
END:VEVENT
END:VCALENDAR